BEGIN:VCALENDAR
PRODID:-//kirchenweb.ch gmbh//veranstaltungsausgabe v2.0//DE
VERSION:2.0
METHOD:PUBLISH
BEGIN:VEVENT
DTSTART:20260811T093000Z
DTEND:20260811T103000Z
LOCATION:Ristorante Pizzeria Vero Gusto\, \,  Schwarzenbach
TRANSP:OPAQUE
SEQUENCE:0
UID:2869-veranstaltung@ref-oberuzwil.ch
DTSTAMP:20260210T100231Z
DESCRIPTION:Kontakt: Anmeldung bis spät. am Vorabend an Ristorante
  Pizzeria Vero Gusto 071 923 66 30\n\nWeitere Infos:
  https://www.ref-oberuzwil.ch/veranstaltung/2869
SUMMARY:Senioren-Mittagessen Schwarzenbach
PRIORITY:5
X-MICROSOFT-CDO-IMPORTANCE:1
CLASS:PUBLIC
END:VEVENT
END:VCALENDAR
