BEGIN:VCALENDAR
PRODID:-//kirchenweb.ch gmbh//veranstaltungsausgabe v2.0//DE
VERSION:2.0
METHOD:PUBLISH
BEGIN:VEVENT
DTSTART:20261224T111500Z
DTEND:20261224T121500Z
LOCATION:Tertianum Christa\, Bahnhofstrasse 43\,  Oberuzwil
TRANSP:OPAQUE
SEQUENCE:0
UID:2867-veranstaltung@ref-oberuzwil.ch
DTSTAMP:20260210T095058Z
DESCRIPTION:Kontakt: Anmeldungen unter 071 955 00 22\n\n\nWeitere Infos:
  https://www.ref-oberuzwil.ch/veranstaltung/2867
SUMMARY:Senioren-Mittagessen Oberuzwil
PRIORITY:5
X-MICROSOFT-CDO-IMPORTANCE:1
CLASS:PUBLIC
END:VEVENT
END:VCALENDAR
