BEGIN:VCALENDAR
PRODID:-//kirchenweb.ch gmbh//veranstaltungsausgabe v2.0//DE
VERSION:2.0
METHOD:PUBLISH
BEGIN:VEVENT
DTSTART:20260716T093000Z
DTEND:20260716T103000Z
LOCATION:Betreuungs- und Pflegezentrum Wolfgang\, Bahnhofstrasse 1\, 
  Oberuzwil
TRANSP:OPAQUE
SEQUENCE:0
UID:2856-veranstaltung@ref-oberuzwil.ch
DTSTAMP:20260210T094855Z
DESCRIPTION:Kontakt: Patrick Schätti\n\nWeitere Infos:
  https://www.ref-oberuzwil.ch/veranstaltung/2856
SUMMARY:Senioren-Mittagessen Oberuzwil
PRIORITY:5
X-MICROSOFT-CDO-IMPORTANCE:1
CLASS:PUBLIC
END:VEVENT
END:VCALENDAR
