BEGIN:VCALENDAR
PRODID:-//kirchenweb.ch gmbh//veranstaltungsausgabe v2.0//DE
VERSION:2.0
METHOD:PUBLISH
BEGIN:VEVENT
DTSTART:20261015T093000Z
DTEND:20261015T103000Z
LOCATION:Restaurant Krone\, \,  Jonschwil
TRANSP:OPAQUE
SEQUENCE:0
UID:2853-veranstaltung@ref-oberuzwil.ch
DTSTAMP:20260210T094526Z
DESCRIPTION:Kontakt: Anmeldung spät. am Vorabend bei Restaurant Krone 071
  923 11 22\n\nWeitere Infos:
  https://www.ref-oberuzwil.ch/veranstaltung/2853
SUMMARY:Senioren-Mittagessen Jonschwil
PRIORITY:5
X-MICROSOFT-CDO-IMPORTANCE:1
CLASS:PUBLIC
END:VEVENT
END:VCALENDAR
