BEGIN:VCALENDAR
PRODID:-//kirchenweb.ch gmbh//veranstaltungsausgabe v2.0//DE
VERSION:2.0
METHOD:PUBLISH
BEGIN:VEVENT
DTSTART:20261105T104500Z
DTEND:20261105T114500Z
LOCATION:Pizzeria La Casa del Gusto\, \, 9242 Oberuzwil
TRANSP:OPAQUE
SEQUENCE:0
UID:2848-veranstaltung@ref-oberuzwil.ch
DTSTAMP:20260210T094259Z
DESCRIPTION:Kontakt: doris.mueller@ref-oberuzwil.ch\n\nWeitere Infos:
  https://www.ref-oberuzwil.ch/veranstaltung/2848
SUMMARY:Senioren-Mittagessen Oberuzwil
PRIORITY:5
X-MICROSOFT-CDO-IMPORTANCE:1
CLASS:PUBLIC
END:VEVENT
END:VCALENDAR
