BEGIN:VCALENDAR
PRODID:-//kirchenweb.ch gmbh//veranstaltungsausgabe v2.0//DE
VERSION:2.0
METHOD:PUBLISH
BEGIN:VEVENT
DTSTART:20260806T094500Z
DTEND:20260806T104500Z
LOCATION:Pizzeria La Casa del Gusto\, \, 9242 Oberuzwil
TRANSP:OPAQUE
SEQUENCE:0
UID:2845-veranstaltung@ref-oberuzwil.ch
DTSTAMP:20260407T091248Z
DESCRIPTION:Kontakt: doris.mueller@ref-oberuzwil.ch\n\nWeitere Infos:
  https://www.ref-oberuzwil.ch/veranstaltung/2845
SUMMARY:abgesagt Senioren-Mittagessen Oberuzwil
PRIORITY:5
X-MICROSOFT-CDO-IMPORTANCE:1
CLASS:PUBLIC
END:VEVENT
END:VCALENDAR
