BEGIN:VCALENDAR
PRODID:-//kirchenweb.ch gmbh//veranstaltungsausgabe v2.0//DE
VERSION:2.0
METHOD:PUBLISH
BEGIN:VEVENT
DTSTART:20261224T153000Z
DTEND:20261224T163000Z
LOCATION:Kath. Kirche\, Kirchstrasse\, 9248 Bichwil
TRANSP:OPAQUE
SEQUENCE:0
UID:2827-veranstaltung@ref-oberuzwil.ch
DTSTAMP:20260129T121825Z
DESCRIPTION:Kontakt: doris.mueller@ref-oberuzwil.ch\n\nWeitere Infos:
  https://www.ref-oberuzwil.ch/veranstaltung/2827
SUMMARY:ökum. Familiengottesdienst Bichwil
PRIORITY:5
X-MICROSOFT-CDO-IMPORTANCE:1
CLASS:PUBLIC
END:VEVENT
END:VCALENDAR
