BEGIN:VCALENDAR
PRODID:-//kirchenweb.ch gmbh//veranstaltungsausgabe v2.0//DE
VERSION:2.0
METHOD:PUBLISH
BEGIN:VEVENT
DTSTART:20261224T141500Z
DTEND:20261224T151500Z
LOCATION:Kath. Kirche St. Martin\, Kirchstrasse\, 9243 Jonschwil
TRANSP:OPAQUE
SEQUENCE:0
UID:2826-veranstaltung@ref-oberuzwil.ch
DTSTAMP:20260129T121358Z
DESCRIPTION:Kontakt: Henning Mayer\n\nWeitere Infos:
  https://www.ref-oberuzwil.ch/veranstaltung/2826
SUMMARY:ökum. Familiengottesdienst Jonschwil
PRIORITY:5
X-MICROSOFT-CDO-IMPORTANCE:1
CLASS:PUBLIC
END:VEVENT
END:VCALENDAR
