BEGIN:VCALENDAR
PRODID:-//kirchenweb.ch gmbh//veranstaltungsausgabe v2.0//DE
VERSION:2.0
METHOD:PUBLISH
BEGIN:VEVENT
DTSTART:20261101T090000Z
DTEND:20261101T100000Z
LOCATION:Evang. Kirche\, Wilerstrasse\, 9242 Oberuzwil
TRANSP:OPAQUE
SEQUENCE:0
UID:2817-veranstaltung@ref-oberuzwil.ch
DTSTAMP:20260129T120221Z
DESCRIPTION:anschliessend Kirchenkaffee\n\nKontakt: Pfr. René Schärer\n
 \nWeitere Infos: https://www.ref-oberuzwil.ch/veranstaltung/2817
SUMMARY:Reformations-Gottesdienst Oberuzwil
PRIORITY:5
X-MICROSOFT-CDO-IMPORTANCE:1
CLASS:PUBLIC
END:VEVENT
END:VCALENDAR
