BEGIN:VCALENDAR
PRODID:-//kirchenweb.ch gmbh//veranstaltungsausgabe v2.0//DE
VERSION:2.0
METHOD:PUBLISH
BEGIN:VEVENT
DTSTART:20261011T170000Z
DTEND:20261011T180000Z
LOCATION:Katharina Kapelle\, Dorfplatz\, 9242 Oberuzwil
TRANSP:OPAQUE
SEQUENCE:0
UID:2815-veranstaltung@ref-oberuzwil.ch
DTSTAMP:20260129T120014Z
DESCRIPTION:Kontakt: Ellen Schout\n\nWeitere Infos:
  https://www.ref-oberuzwil.ch/veranstaltung/2815
SUMMARY:Gottesdienst Oberuzwil Herbstnachtssegen
PRIORITY:5
X-MICROSOFT-CDO-IMPORTANCE:1
CLASS:PUBLIC
END:VEVENT
END:VCALENDAR
