BEGIN:VCALENDAR
PRODID:-//kirchenweb.ch gmbh//veranstaltungsausgabe v2.0//DE
VERSION:2.0
METHOD:PUBLISH
BEGIN:VEVENT
DTSTART:20261004T083000Z
DTEND:20261004T093000Z
LOCATION:Kath. Kirche\, Kirchstrasse\, 9248 Bichwil
TRANSP:OPAQUE
SEQUENCE:0
UID:2814-veranstaltung@ref-oberuzwil.ch
DTSTAMP:20260129T115930Z
DESCRIPTION:anschliessend Apéro\n\nKontakt: Ellen Schout\n\nWeitere
  Infos: https://www.ref-oberuzwil.ch/veranstaltung/2814
SUMMARY:Erntedank-Gottesdienst Bichwil
PRIORITY:5
X-MICROSOFT-CDO-IMPORTANCE:1
CLASS:PUBLIC
END:VEVENT
END:VCALENDAR
