BEGIN:VCALENDAR
PRODID:-//kirchenweb.ch gmbh//veranstaltungsausgabe v2.0//DE
VERSION:2.0
METHOD:PUBLISH
BEGIN:VEVENT
DTSTART:20260927T080000Z
DTEND:20260927T090000Z
LOCATION:Chilbizelt\, \,  Bichwil
TRANSP:OPAQUE
SEQUENCE:0
UID:2812-veranstaltung@ref-oberuzwil.ch
DTSTAMP:20260129T115708Z
DESCRIPTION:Kontakt: Pfr. René Schärer\n\nWeitere Infos:
  https://www.ref-oberuzwil.ch/veranstaltung/2812
SUMMARY:ökum. Chilbigottesdienst Bichwil
PRIORITY:5
X-MICROSOFT-CDO-IMPORTANCE:1
CLASS:PUBLIC
END:VEVENT
END:VCALENDAR
