BEGIN:VCALENDAR
PRODID:-//kirchenweb.ch gmbh//veranstaltungsausgabe v2.0//DE
VERSION:2.0
METHOD:PUBLISH
BEGIN:VEVENT
DTSTART:20260920T080000Z
DTEND:20260920T090000Z
LOCATION:Kath. Kirche St. Martin\, Kirchstrasse\, 9243 Jonschwil
TRANSP:OPAQUE
SEQUENCE:0
UID:2810-veranstaltung@ref-oberuzwil.ch
DTSTAMP:20260129T115457Z
DESCRIPTION:Mitwirkung All4Soul Chor\n\nKontakt: Ellen Schout\n\nWeitere
  Infos: https://www.ref-oberuzwil.ch/veranstaltung/2810
SUMMARY:ökum. Bettags-Gottesdienst Jonschwil
PRIORITY:5
X-MICROSOFT-CDO-IMPORTANCE:1
CLASS:PUBLIC
END:VEVENT
END:VCALENDAR
