BEGIN:VCALENDAR
PRODID:-//kirchenweb.ch gmbh//veranstaltungsausgabe v2.0//DE
VERSION:2.0
METHOD:PUBLISH
BEGIN:VEVENT
DTSTART:20260906T081500Z
DTEND:20260906T091500Z
LOCATION:Chilbizelt\, \,  Jonschwil
TRANSP:OPAQUE
SEQUENCE:0
UID:2808-veranstaltung@ref-oberuzwil.ch
DTSTAMP:20260129T115150Z
DESCRIPTION:Kontakt: Ellen Schout\n\nWeitere Infos:
  https://www.ref-oberuzwil.ch/veranstaltung/2808
SUMMARY:ökum. Chilbi-Gottesdienst Jonschwil
PRIORITY:5
X-MICROSOFT-CDO-IMPORTANCE:1
CLASS:PUBLIC
END:VEVENT
END:VCALENDAR
