BEGIN:VCALENDAR
PRODID:-//kirchenweb.ch gmbh//veranstaltungsausgabe v2.0//DE
VERSION:2.0
METHOD:PUBLISH
BEGIN:VEVENT
DTSTART:20260802T080000Z
DTEND:20260802T090000Z
LOCATION:BPZ Wolfgang\, Bahnhofstrasse\,  Oberuzwil
TRANSP:OPAQUE
SEQUENCE:0
UID:2805-veranstaltung@ref-oberuzwil.ch
DTSTAMP:20260129T120508Z
DESCRIPTION:Kontakt: Pfr. René Schärer\n\nWeitere Infos:
  https://www.ref-oberuzwil.ch/veranstaltung/2805
SUMMARY:ökum. Feriengottesdienst Oberuzwil
PRIORITY:5
X-MICROSOFT-CDO-IMPORTANCE:1
CLASS:PUBLIC
END:VEVENT
END:VCALENDAR
