BEGIN:VCALENDAR
PRODID:-//kirchenweb.ch gmbh//veranstaltungsausgabe v2.0//DE
VERSION:2.0
METHOD:PUBLISH
BEGIN:VEVENT
DTSTART:20260705T083000Z
DTEND:20260705T093000Z
LOCATION:Schulhausplatz\, \,  Jonschwil
TRANSP:OPAQUE
SEQUENCE:0
UID:2802-veranstaltung@ref-oberuzwil.ch
DTSTAMP:20260423T064210Z
DESCRIPTION:Kontakt: Henning Mayer\n\nWeitere Infos:
  https://www.ref-oberuzwil.ch/veranstaltung/2802
SUMMARY:ökum. Festgottesdienst
PRIORITY:5
X-MICROSOFT-CDO-IMPORTANCE:1
CLASS:PUBLIC
END:VEVENT
END:VCALENDAR
