BEGIN:VCALENDAR
PRODID:-//kirchenweb.ch gmbh//veranstaltungsausgabe v2.0//DE
VERSION:2.0
METHOD:PUBLISH
BEGIN:VEVENT
DTSTART:20260503T070000Z
DTEND:20260503T080000Z
LOCATION:Kapelle St. Konrad\, Jonschwiler Strasse\, 9536 Schwarzenbach
TRANSP:OPAQUE
SEQUENCE:0
UID:2797-veranstaltung@ref-oberuzwil.ch
DTSTAMP:20260115T073457Z
DESCRIPTION:Kontakt: Pfr. René Schärer\n\nWeitere Infos:
  https://www.ref-oberuzwil.ch/veranstaltung/2797
SUMMARY:Gottesdienst Schwarzenbach
PRIORITY:5
X-MICROSOFT-CDO-IMPORTANCE:1
CLASS:PUBLIC
END:VEVENT
END:VCALENDAR
