BEGIN:VCALENDAR
PRODID:-//kirchenweb.ch gmbh//veranstaltungsausgabe v2.0//DE
VERSION:2.0
METHOD:PUBLISH
BEGIN:VEVENT
DTSTART:20261008T123000Z
DTEND:20261008T133000Z
LOCATION:Aufenthaltsraum Alterssiedlung Schützengarten\, \,  Oberuzwil
TRANSP:OPAQUE
SEQUENCE:0
UID:2789-veranstaltung@ref-oberuzwil.ch
DTSTAMP:20260105T101008Z
DESCRIPTION:Kontakt: Karin Bernhardsgrütter\, 071 951 80 31\n\nWeitere
  Infos: https://www.ref-oberuzwil.ch/veranstaltung/2789
SUMMARY:Witwennachmittag
PRIORITY:5
X-MICROSOFT-CDO-IMPORTANCE:1
CLASS:PUBLIC
END:VEVENT
END:VCALENDAR
