BEGIN:VCALENDAR
PRODID:-//kirchenweb.ch gmbh//veranstaltungsausgabe v2.0//DE
VERSION:2.0
METHOD:PUBLISH
BEGIN:VEVENT
DTSTART:20260607T080000Z
DTEND:20260607T090000Z
LOCATION:Evang. Kirche\, Wilerstrasse\, 9242 Oberuzwil
TRANSP:OPAQUE
SEQUENCE:0
UID:2709-veranstaltung@ref-oberuzwil.ch
DTSTAMP:20251118T100604Z
DESCRIPTION:Konfirmation der Jugendlichen aus Oberuzwil und Bichwil\,
  anschliessend Apéro\n\nKontakt: Pfr. René Schärer\n\nWeitere Infos:
  https://www.ref-oberuzwil.ch/veranstaltung/2709
SUMMARY:Gottesdienst Konfirmation Oberuzwil
PRIORITY:5
X-MICROSOFT-CDO-IMPORTANCE:1
CLASS:PUBLIC
END:VEVENT
END:VCALENDAR
