BEGIN:VCALENDAR
PRODID:-//kirchenweb.ch gmbh//veranstaltungsausgabe v2.0//DE
VERSION:2.0
METHOD:PUBLISH
BEGIN:VEVENT
DTSTART:20261129T100000Z
DTEND:20261129T110000Z
LOCATION:Evang. Kirche\, Wilerstrasse\, 9242 Oberuzwil
TRANSP:OPAQUE
SEQUENCE:0
UID:2697-veranstaltung@ref-oberuzwil.ch
DTSTAMP:20251118T093600Z
DESCRIPTION:anschliessend Teilete\n\nKontakt: Pfr. René Schärer\n
 \nWeitere Infos: https://www.ref-oberuzwil.ch/veranstaltung/2697
SUMMARY:Gottesdienst Rock my Soul Oberuzwil
PRIORITY:5
X-MICROSOFT-CDO-IMPORTANCE:1
CLASS:PUBLIC
END:VEVENT
END:VCALENDAR
