BEGIN:VCALENDAR
PRODID:-//kirchenweb.ch gmbh//veranstaltungsausgabe v2.0//DE
VERSION:2.0
METHOD:PUBLISH
BEGIN:VEVENT
DTSTART:20261025T093000Z
DTEND:20261025T103000Z
LOCATION:Chilbizelt\, \, 9242 Oberuzwil
TRANSP:OPAQUE
SEQUENCE:0
UID:2696-veranstaltung@ref-oberuzwil.ch
DTSTAMP:20251118T093515Z
DESCRIPTION:Kontakt: Pfr. René Schärer\n\nWeitere Infos:
  https://www.ref-oberuzwil.ch/veranstaltung/2696
SUMMARY:Gottesdienst Rock my Soul Oberuzwil
PRIORITY:5
X-MICROSOFT-CDO-IMPORTANCE:1
CLASS:PUBLIC
END:VEVENT
END:VCALENDAR
