BEGIN:VCALENDAR
PRODID:-//kirchenweb.ch gmbh//veranstaltungsausgabe v2.0//DE
VERSION:2.0
METHOD:PUBLISH
BEGIN:VEVENT
DTSTART:20260830T090000Z
DTEND:20260830T100000Z
LOCATION:Evang. Kirche oder Badi\, \, 9242 Oberuzwil
TRANSP:OPAQUE
SEQUENCE:0
UID:2695-veranstaltung@ref-oberuzwil.ch
DTSTAMP:20251118T093429Z
DESCRIPTION:je nach Wetter in der Kirche oder Badi\, anschliessend Essen
  im Badi-Restaurant oder Teilete\n\nKontakt: Pfr. René Schärer\n
 \nWeitere Infos: https://www.ref-oberuzwil.ch/veranstaltung/2695
SUMMARY:Gottesdienst Rock my Soul Oberuzwil
PRIORITY:5
X-MICROSOFT-CDO-IMPORTANCE:1
CLASS:PUBLIC
END:VEVENT
END:VCALENDAR
