BEGIN:VCALENDAR
PRODID:-//kirchenweb.ch gmbh//veranstaltungsausgabe v2.0//DE
VERSION:2.0
METHOD:PUBLISH
BEGIN:VEVENT
DTSTART:20260628T090000Z
DTEND:20260628T100000Z
LOCATION:Evang. Kirche\, Wilerstrasse\, 9242 Oberuzwil
TRANSP:OPAQUE
SEQUENCE:0
UID:2694-veranstaltung@ref-oberuzwil.ch
DTSTAMP:20251118T093300Z
DESCRIPTION:Begegnungsfeier\, Bibelübergabe der 4. Klässler\,
  anschliessend werden Wurst und Brot offeriert\n\nKontakt: Pfr. René
  Schärer\n\nWeitere Infos:
  https://www.ref-oberuzwil.ch/veranstaltung/2694
SUMMARY:Gottesdienst Rock my Soul Oberuzwil
PRIORITY:5
X-MICROSOFT-CDO-IMPORTANCE:1
CLASS:PUBLIC
END:VEVENT
END:VCALENDAR
