BEGIN:VCALENDAR
PRODID:-//kirchenweb.ch gmbh//veranstaltungsausgabe v2.0//DE
VERSION:2.0
METHOD:PUBLISH
BEGIN:VEVENT
DTSTART:20260426T080000Z
DTEND:20260426T090000Z
LOCATION:Evang. Kirche\, Wilerstrasse\, 9242 Oberuzwil
TRANSP:OPAQUE
SEQUENCE:0
UID:2692-veranstaltung@ref-oberuzwil.ch
DTSTAMP:20251118T093016Z
DESCRIPTION:Abendmahl-Gottesdienst der 3. Klässler\, Verabschiedung von
  Kurt Pauli\, anschliessend Apéro\n\nKontakt: Pfr. René Schärer\n
 \nWeitere Infos: https://www.ref-oberuzwil.ch/veranstaltung/2692
SUMMARY:Gottesdienst Rock my Soul Oberuzwil
PRIORITY:5
X-MICROSOFT-CDO-IMPORTANCE:1
CLASS:PUBLIC
END:VEVENT
END:VCALENDAR
