BEGIN:VCALENDAR
PRODID:-//kirchenweb.ch gmbh//veranstaltungsausgabe v2.0//DE
VERSION:2.0
METHOD:PUBLISH
BEGIN:VEVENT
DTSTART:20261128T153000Z
DTEND:20261128T163000Z
LOCATION:Kath. Kirche\, Neugasse\, 9242 Oberuzwil
TRANSP:OPAQUE
SEQUENCE:0
UID:2688-veranstaltung@ref-oberuzwil.ch
DTSTAMP:20251118T091952Z
DESCRIPTION:anschliessend Nachtessen\n\nKontakt: Seraina Marmet\n\nWeitere
  Infos: https://www.ref-oberuzwil.ch/veranstaltung/2688
SUMMARY:Kirche Kunterbunt
PRIORITY:5
X-MICROSOFT-CDO-IMPORTANCE:1
CLASS:PUBLIC
END:VEVENT
END:VCALENDAR
