BEGIN:VCALENDAR
PRODID:-//kirchenweb.ch gmbh//veranstaltungsausgabe v2.0//DE
VERSION:2.0
METHOD:PUBLISH
BEGIN:VEVENT
DTSTART:20260912T143000Z
DTEND:20260912T153000Z
LOCATION:Kath. Kirche\, Kirchstrasse\, 9248 Bichwil
TRANSP:OPAQUE
SEQUENCE:0
UID:2687-veranstaltung@ref-oberuzwil.ch
DTSTAMP:20251118T092326Z
DESCRIPTION:mit Tauferinnerungsfeier\, anschliessend Nachtessen\n
 \nKontakt: Seraina Marmet\n\nWeitere Infos:
  https://www.ref-oberuzwil.ch/veranstaltung/2687
SUMMARY:Kirche Kunterbunt
PRIORITY:5
X-MICROSOFT-CDO-IMPORTANCE:1
CLASS:PUBLIC
END:VEVENT
END:VCALENDAR
