BEGIN:VCALENDAR
PRODID:-//kirchenweb.ch gmbh//veranstaltungsausgabe v2.0//DE
VERSION:2.0
METHOD:PUBLISH
BEGIN:VEVENT
DTSTART:20260613T073000Z
DTEND:20260613T130000Z
LOCATION:Evang. Kantonalkirche\, \,  St. Gallen
TRANSP:OPAQUE
SEQUENCE:0
UID:2686-veranstaltung@ref-oberuzwil.ch
DTSTAMP:20251118T092246Z
DESCRIPTION:anschliessend Nachtessen\n\nKontakt: Seraina Marmet\n\nWeitere
  Infos: https://www.ref-oberuzwil.ch/veranstaltung/2686
SUMMARY:Kirche Kunterbunt
PRIORITY:5
X-MICROSOFT-CDO-IMPORTANCE:1
CLASS:PUBLIC
END:VEVENT
END:VCALENDAR
