BEGIN:VCALENDAR
PRODID:-//kirchenweb.ch gmbh//veranstaltungsausgabe v2.0//DE
VERSION:2.0
METHOD:PUBLISH
BEGIN:VEVENT
DTSTART:20260528T124500Z
DTEND:20260528T144500Z
LOCATION:BPZ Wolfgang\, Bahnhofstrasse 1\, 9242 Oberuzwil
TRANSP:OPAQUE
SEQUENCE:0
UID:2628-veranstaltung@ref-oberuzwil.ch
DTSTAMP:20250819T080517Z
DESCRIPTION:Kontakt: Ellen Schout\n\nWeitere Infos:
  https://www.ref-oberuzwil.ch/veranstaltung/2628
SUMMARY:trauercafe
PRIORITY:5
X-MICROSOFT-CDO-IMPORTANCE:1
CLASS:PUBLIC
END:VEVENT
END:VCALENDAR
