BEGIN:VCALENDAR
PRODID:-//kirchenweb.ch gmbh//veranstaltungsausgabe v2.0//DE
VERSION:2.0
METHOD:PUBLISH
BEGIN:VEVENT
DTSTART:20260507T123000Z
DTEND:20260507T150000Z
LOCATION:gemäss Ausschreibung\, \,
TRANSP:OPAQUE
SEQUENCE:0
UID:2560-veranstaltung@ref-oberuzwil.ch
DTSTAMP:20260105T100444Z
DESCRIPTION:Ganztagesausflug gemäss Ausschreibung\n\nKontakt:
  doris.mueller@ref-oberuzwil.ch\n\nWeitere Infos:
  https://www.ref-oberuzwil.ch/veranstaltung/2560
SUMMARY:Witwennachmittag (ev. Ausflug)
PRIORITY:5
X-MICROSOFT-CDO-IMPORTANCE:1
CLASS:PUBLIC
END:VEVENT
END:VCALENDAR
